BEGIN:VCALENDAR
VERSION:2.0
PRODID:-//PWC Sites - ECPv6.15.20//NONSGML v1.0//EN
CALSCALE:GREGORIAN
METHOD:PUBLISH
X-WR-CALNAME:PWC Sites
X-ORIGINAL-URL:https://pwcsites.com
X-WR-CALDESC:Events for PWC Sites
REFRESH-INTERVAL;VALUE=DURATION:PT1H
X-Robots-Tag:noindex
X-PUBLISHED-TTL:PT1H
BEGIN:VTIMEZONE
TZID:UTC
BEGIN:STANDARD
TZOFFSETFROM:+0000
TZOFFSETTO:+0000
TZNAME:UTC
DTSTART:20240101T000000
END:STANDARD
END:VTIMEZONE
BEGIN:VEVENT
DTSTART;TZID=UTC:20250419T000000
DTEND;TZID=UTC:20790807T170000
DTSTAMP:20260419T064944
CREATED:20151129T222624Z
LAST-MODIFIED:20151129T222624Z
UID:65202-1745020800-3458653200@pwcsites.com
SUMMARY:Pilates
DESCRIPTION:
URL:https://pwcsites.com/event/pilates-2/2025-04-19/
CATEGORIES:Land Class
END:VEVENT
BEGIN:VEVENT
DTSTART;TZID=UTC:20250419T000000
DTEND;TZID=UTC:20790807T170000
DTSTAMP:20260419T064944
CREATED:20151129T222748Z
LAST-MODIFIED:20151129T222748Z
UID:65203-1745020800-3458653200@pwcsites.com
SUMMARY:Circuit Challenge
DESCRIPTION:Cardio moves alternating with strength moves.  This class is held on the fitness floor.
URL:https://pwcsites.com/event/circuit-challenge-2/2025-04-19/
CATEGORIES:Land Class
END:VEVENT
BEGIN:VEVENT
DTSTART;TZID=UTC:20250426T000000
DTEND;TZID=UTC:20790821T170000
DTSTAMP:20260419T064944
CREATED:20151129T222624Z
LAST-MODIFIED:20151129T222624Z
UID:65320-1745625600-3459862800@pwcsites.com
SUMMARY:Pilates
DESCRIPTION:
URL:https://pwcsites.com/event/pilates-2/2025-04-26/
CATEGORIES:Land Class
END:VEVENT
BEGIN:VEVENT
DTSTART;TZID=UTC:20250426T000000
DTEND;TZID=UTC:20790821T170000
DTSTAMP:20260419T064944
CREATED:20151129T222748Z
LAST-MODIFIED:20151129T222748Z
UID:65321-1745625600-3459862800@pwcsites.com
SUMMARY:Circuit Challenge
DESCRIPTION:Cardio moves alternating with strength moves.  This class is held on the fitness floor.
URL:https://pwcsites.com/event/circuit-challenge-2/2025-04-26/
CATEGORIES:Land Class
END:VEVENT
BEGIN:VEVENT
DTSTART;TZID=UTC:20250503T000000
DTEND;TZID=UTC:20790904T170000
DTSTAMP:20260419T064944
CREATED:20151129T222624Z
LAST-MODIFIED:20151129T222624Z
UID:65438-1746230400-3461072400@pwcsites.com
SUMMARY:Pilates
DESCRIPTION:
URL:https://pwcsites.com/event/pilates-2/2025-05-03/
CATEGORIES:Land Class
END:VEVENT
BEGIN:VEVENT
DTSTART;TZID=UTC:20250503T000000
DTEND;TZID=UTC:20790904T170000
DTSTAMP:20260419T064944
CREATED:20151129T222748Z
LAST-MODIFIED:20151129T222748Z
UID:65439-1746230400-3461072400@pwcsites.com
SUMMARY:Circuit Challenge
DESCRIPTION:Cardio moves alternating with strength moves.  This class is held on the fitness floor.
URL:https://pwcsites.com/event/circuit-challenge-2/2025-05-03/
CATEGORIES:Land Class
END:VEVENT
BEGIN:VEVENT
DTSTART;TZID=UTC:20250510T000000
DTEND;TZID=UTC:20790918T170000
DTSTAMP:20260419T064944
CREATED:20151129T222624Z
LAST-MODIFIED:20151129T222624Z
UID:65555-1746835200-3462282000@pwcsites.com
SUMMARY:Pilates
DESCRIPTION:
URL:https://pwcsites.com/event/pilates-2/2025-05-10/
CATEGORIES:Land Class
END:VEVENT
BEGIN:VEVENT
DTSTART;TZID=UTC:20250510T000000
DTEND;TZID=UTC:20790918T170000
DTSTAMP:20260419T064944
CREATED:20151129T222748Z
LAST-MODIFIED:20151129T222748Z
UID:65556-1746835200-3462282000@pwcsites.com
SUMMARY:Circuit Challenge
DESCRIPTION:Cardio moves alternating with strength moves.  This class is held on the fitness floor.
URL:https://pwcsites.com/event/circuit-challenge-2/2025-05-10/
CATEGORIES:Land Class
END:VEVENT
BEGIN:VEVENT
DTSTART;TZID=UTC:20250517T000000
DTEND;TZID=UTC:20791002T170000
DTSTAMP:20260419T064944
CREATED:20151129T222624Z
LAST-MODIFIED:20151129T222624Z
UID:65672-1747440000-3463491600@pwcsites.com
SUMMARY:Pilates
DESCRIPTION:
URL:https://pwcsites.com/event/pilates-2/2025-05-17/
CATEGORIES:Land Class
END:VEVENT
BEGIN:VEVENT
DTSTART;TZID=UTC:20250517T000000
DTEND;TZID=UTC:20791002T170000
DTSTAMP:20260419T064944
CREATED:20151129T222748Z
LAST-MODIFIED:20151129T222748Z
UID:65673-1747440000-3463491600@pwcsites.com
SUMMARY:Circuit Challenge
DESCRIPTION:Cardio moves alternating with strength moves.  This class is held on the fitness floor.
URL:https://pwcsites.com/event/circuit-challenge-2/2025-05-17/
CATEGORIES:Land Class
END:VEVENT
BEGIN:VEVENT
DTSTART;TZID=UTC:20250524T000000
DTEND;TZID=UTC:20791016T170000
DTSTAMP:20260419T064944
CREATED:20151129T222624Z
LAST-MODIFIED:20151129T222624Z
UID:65791-1748044800-3464701200@pwcsites.com
SUMMARY:Pilates
DESCRIPTION:
URL:https://pwcsites.com/event/pilates-2/2025-05-24/
CATEGORIES:Land Class
END:VEVENT
BEGIN:VEVENT
DTSTART;TZID=UTC:20250524T000000
DTEND;TZID=UTC:20791016T170000
DTSTAMP:20260419T064944
CREATED:20151129T222748Z
LAST-MODIFIED:20151129T222748Z
UID:65792-1748044800-3464701200@pwcsites.com
SUMMARY:Circuit Challenge
DESCRIPTION:Cardio moves alternating with strength moves.  This class is held on the fitness floor.
URL:https://pwcsites.com/event/circuit-challenge-2/2025-05-24/
CATEGORIES:Land Class
END:VEVENT
BEGIN:VEVENT
DTSTART;TZID=UTC:20250531T000000
DTEND;TZID=UTC:20791030T170000
DTSTAMP:20260419T064944
CREATED:20151129T222624Z
LAST-MODIFIED:20151129T222624Z
UID:65909-1748649600-3465910800@pwcsites.com
SUMMARY:Pilates
DESCRIPTION:
URL:https://pwcsites.com/event/pilates-2/2025-05-31/
CATEGORIES:Land Class
END:VEVENT
BEGIN:VEVENT
DTSTART;TZID=UTC:20250531T000000
DTEND;TZID=UTC:20791030T170000
DTSTAMP:20260419T064944
CREATED:20151129T222748Z
LAST-MODIFIED:20151129T222748Z
UID:65910-1748649600-3465910800@pwcsites.com
SUMMARY:Circuit Challenge
DESCRIPTION:Cardio moves alternating with strength moves.  This class is held on the fitness floor.
URL:https://pwcsites.com/event/circuit-challenge-2/2025-05-31/
CATEGORIES:Land Class
END:VEVENT
BEGIN:VEVENT
DTSTART;TZID=UTC:20250607T000000
DTEND;TZID=UTC:20791113T170000
DTSTAMP:20260419T064944
CREATED:20151129T222624Z
LAST-MODIFIED:20151129T222624Z
UID:66027-1749254400-3467120400@pwcsites.com
SUMMARY:Pilates
DESCRIPTION:
URL:https://pwcsites.com/event/pilates-2/2025-06-07/
CATEGORIES:Land Class
END:VEVENT
BEGIN:VEVENT
DTSTART;TZID=UTC:20250607T000000
DTEND;TZID=UTC:20791113T170000
DTSTAMP:20260419T064944
CREATED:20151129T222748Z
LAST-MODIFIED:20151129T222748Z
UID:66028-1749254400-3467120400@pwcsites.com
SUMMARY:Circuit Challenge
DESCRIPTION:Cardio moves alternating with strength moves.  This class is held on the fitness floor.
URL:https://pwcsites.com/event/circuit-challenge-2/2025-06-07/
CATEGORIES:Land Class
END:VEVENT
BEGIN:VEVENT
DTSTART;TZID=UTC:20250614T000000
DTEND;TZID=UTC:20791127T170000
DTSTAMP:20260419T064944
CREATED:20151129T222624Z
LAST-MODIFIED:20151129T222624Z
UID:66144-1749859200-3468330000@pwcsites.com
SUMMARY:Pilates
DESCRIPTION:
URL:https://pwcsites.com/event/pilates-2/2025-06-14/
CATEGORIES:Land Class
END:VEVENT
BEGIN:VEVENT
DTSTART;TZID=UTC:20250614T000000
DTEND;TZID=UTC:20791127T170000
DTSTAMP:20260419T064944
CREATED:20151129T222748Z
LAST-MODIFIED:20151129T222748Z
UID:66145-1749859200-3468330000@pwcsites.com
SUMMARY:Circuit Challenge
DESCRIPTION:Cardio moves alternating with strength moves.  This class is held on the fitness floor.
URL:https://pwcsites.com/event/circuit-challenge-2/2025-06-14/
CATEGORIES:Land Class
END:VEVENT
BEGIN:VEVENT
DTSTART;TZID=UTC:20250621T000000
DTEND;TZID=UTC:20791211T170000
DTSTAMP:20260419T064944
CREATED:20151129T222624Z
LAST-MODIFIED:20151129T222624Z
UID:66262-1750464000-3469539600@pwcsites.com
SUMMARY:Pilates
DESCRIPTION:
URL:https://pwcsites.com/event/pilates-2/2025-06-21/
CATEGORIES:Land Class
END:VEVENT
BEGIN:VEVENT
DTSTART;TZID=UTC:20250621T000000
DTEND;TZID=UTC:20791211T170000
DTSTAMP:20260419T064944
CREATED:20151129T222748Z
LAST-MODIFIED:20151129T222748Z
UID:66263-1750464000-3469539600@pwcsites.com
SUMMARY:Circuit Challenge
DESCRIPTION:Cardio moves alternating with strength moves.  This class is held on the fitness floor.
URL:https://pwcsites.com/event/circuit-challenge-2/2025-06-21/
CATEGORIES:Land Class
END:VEVENT
BEGIN:VEVENT
DTSTART;TZID=UTC:20250628T000000
DTEND;TZID=UTC:20791225T170000
DTSTAMP:20260419T064944
CREATED:20151129T222624Z
LAST-MODIFIED:20151129T222624Z
UID:66379-1751068800-3470749200@pwcsites.com
SUMMARY:Pilates
DESCRIPTION:
URL:https://pwcsites.com/event/pilates-2/2025-06-28/
CATEGORIES:Land Class
END:VEVENT
BEGIN:VEVENT
DTSTART;TZID=UTC:20250628T000000
DTEND;TZID=UTC:20791225T170000
DTSTAMP:20260419T064944
CREATED:20151129T222748Z
LAST-MODIFIED:20151129T222748Z
UID:66380-1751068800-3470749200@pwcsites.com
SUMMARY:Circuit Challenge
DESCRIPTION:Cardio moves alternating with strength moves.  This class is held on the fitness floor.
URL:https://pwcsites.com/event/circuit-challenge-2/2025-06-28/
CATEGORIES:Land Class
END:VEVENT
BEGIN:VEVENT
DTSTART;TZID=UTC:20250705T000000
DTEND;TZID=UTC:20800108T170000
DTSTAMP:20260419T064944
CREATED:20151129T222624Z
LAST-MODIFIED:20151129T222624Z
UID:66500-1751673600-3471958800@pwcsites.com
SUMMARY:Pilates
DESCRIPTION:
URL:https://pwcsites.com/event/pilates-2/2025-07-05/
CATEGORIES:Land Class
END:VEVENT
BEGIN:VEVENT
DTSTART;TZID=UTC:20250705T000000
DTEND;TZID=UTC:20800108T170000
DTSTAMP:20260419T064944
CREATED:20151129T222748Z
LAST-MODIFIED:20151129T222748Z
UID:66501-1751673600-3471958800@pwcsites.com
SUMMARY:Circuit Challenge
DESCRIPTION:Cardio moves alternating with strength moves.  This class is held on the fitness floor.
URL:https://pwcsites.com/event/circuit-challenge-2/2025-07-05/
CATEGORIES:Land Class
END:VEVENT
BEGIN:VEVENT
DTSTART;TZID=UTC:20250712T000000
DTEND;TZID=UTC:20800122T170000
DTSTAMP:20260419T064944
CREATED:20151129T222624Z
LAST-MODIFIED:20151129T222624Z
UID:66618-1752278400-3473168400@pwcsites.com
SUMMARY:Pilates
DESCRIPTION:
URL:https://pwcsites.com/event/pilates-2/2025-07-12/
CATEGORIES:Land Class
END:VEVENT
BEGIN:VEVENT
DTSTART;TZID=UTC:20250712T000000
DTEND;TZID=UTC:20800122T170000
DTSTAMP:20260419T064944
CREATED:20151129T222748Z
LAST-MODIFIED:20151129T222748Z
UID:66619-1752278400-3473168400@pwcsites.com
SUMMARY:Circuit Challenge
DESCRIPTION:Cardio moves alternating with strength moves.  This class is held on the fitness floor.
URL:https://pwcsites.com/event/circuit-challenge-2/2025-07-12/
CATEGORIES:Land Class
END:VEVENT
BEGIN:VEVENT
DTSTART;TZID=UTC:20250719T000000
DTEND;TZID=UTC:20800205T170000
DTSTAMP:20260419T064944
CREATED:20151129T222624Z
LAST-MODIFIED:20151129T222624Z
UID:66735-1752883200-3474378000@pwcsites.com
SUMMARY:Pilates
DESCRIPTION:
URL:https://pwcsites.com/event/pilates-2/2025-07-19/
CATEGORIES:Land Class
END:VEVENT
BEGIN:VEVENT
DTSTART;TZID=UTC:20250719T000000
DTEND;TZID=UTC:20800205T170000
DTSTAMP:20260419T064944
CREATED:20151129T222748Z
LAST-MODIFIED:20151129T222748Z
UID:66736-1752883200-3474378000@pwcsites.com
SUMMARY:Circuit Challenge
DESCRIPTION:Cardio moves alternating with strength moves.  This class is held on the fitness floor.
URL:https://pwcsites.com/event/circuit-challenge-2/2025-07-19/
CATEGORIES:Land Class
END:VEVENT
BEGIN:VEVENT
DTSTART;TZID=UTC:20250726T000000
DTEND;TZID=UTC:20800219T170000
DTSTAMP:20260419T064944
CREATED:20151129T222624Z
LAST-MODIFIED:20151129T222624Z
UID:66853-1753488000-3475587600@pwcsites.com
SUMMARY:Pilates
DESCRIPTION:
URL:https://pwcsites.com/event/pilates-2/2025-07-26/
CATEGORIES:Land Class
END:VEVENT
BEGIN:VEVENT
DTSTART;TZID=UTC:20250726T000000
DTEND;TZID=UTC:20800219T170000
DTSTAMP:20260419T064944
CREATED:20151129T222748Z
LAST-MODIFIED:20151129T222748Z
UID:66854-1753488000-3475587600@pwcsites.com
SUMMARY:Circuit Challenge
DESCRIPTION:Cardio moves alternating with strength moves.  This class is held on the fitness floor.
URL:https://pwcsites.com/event/circuit-challenge-2/2025-07-26/
CATEGORIES:Land Class
END:VEVENT
END:VCALENDAR